BEGIN:VCALENDAR
VERSION:2.0
PRODID:-//wp-events-plugin.com//7.2.3.1//EN
TZID:Europe/Berlin
X-WR-TIMEZONE:Europe/Berlin
BEGIN:VEVENT
UID:148@freimaurer-neuwied.de
DTSTART;TZID=Europe/Berlin:20250303T200000
DTEND;TZID=Europe/Berlin:20250303T200000
DTSTAMP:20241216T143402Z
URL:https://freimaurer-neuwied.de/termine/loge-im-dunkeln/
SUMMARY:Loge im Dunkeln
DESCRIPTION:Loge im Dunkeln
END:VEVENT
BEGIN:VTIMEZONE
TZID:Europe/Berlin
X-LIC-LOCATION:Europe/Berlin
BEGIN:STANDARD
DTSTART:20241027T020000
TZOFFSETFROM:+0200
TZOFFSETTO:+0100
TZNAME:CET
END:STANDARD
END:VTIMEZONE
END:VCALENDAR